BEGIN:VCALENDAR
VERSION:2.0
PRODID:-//146.66.91.39//NONSGML kigkonsult.se iCalcreator 2.24.2//
CALSCALE:GREGORIAN
METHOD:PUBLISH
X-FROM-URL:https://elthamtri.org.au
X-WR-TIMEZONE:Australia/Melbourne
BEGIN:VTIMEZONE
TZID:Australia/Melbourne
X-LIC-LOCATION:Australia/Melbourne
BEGIN:STANDARD
DTSTART:20190407T030000
TZOFFSETFROM:+1100
TZOFFSETTO:+1000
RDATE:20200405T030000
TZNAME:AEST
END:STANDARD
BEGIN:DAYLIGHT
DTSTART:20181007T020000
TZOFFSETFROM:+1000
TZOFFSETTO:+1100
RDATE:20191006T020000
TZNAME:AEDT
END:DAYLIGHT
END:VTIMEZONE
BEGIN:VEVENT
UID:ai1ec-373@elthamtri.org.au/wordpress
DTSTAMP:20190226T162828Z
CATEGORIES;LANGUAGE=en-US:Cycle\,Swim
CONTACT:Zac
DESCRIPTION:Striving towards your first triathlon? Come along to this great
  beginner triathlete session where Coach Jenny will help lay the swim and 
 cycle foundations for your first tri.\nLook for Coach Jenny and the crew p
 oolside.  There is a charge for this session so enquire at reception or ca
 ll ELC beforehand for more info.
DTSTART;TZID=Australia/Melbourne:20160228T071500
DTEND;TZID=Australia/Melbourne:20160228T084500
GEO:-37.722774;+145.050087
LOCATION:Eltham Leisure Centre
RRULE:FREQ=WEEKLY;BYDAY=SU;WKST=MO
SEQUENCE:0
SUMMARY:Beginner Tri
URL:https://elthamtri.org.au/event/cycle/
X-COST-TYPE:external
X-ALT-DESC;FMTTYPE=text/html:<!DOCTYPE HTML PUBLIC '-//W3C//DTD HTML 3.2//E
 N'>\\n<HTML>\\n<HEAD>\\n<TITLE></TITLE>\\n</HEAD>\\n<BODY><p>Striving towa
 rds your first triathlon? Come along to this great beginner triathlete ses
 sion where Coach Jenny will help lay the swim and cycle foundations for yo
 ur first tri.</p>\n<p>Look for Coach Jenny and the crew poolside.  There i
 s a charge for this session so enquire at reception or call ELC beforehand
  for more info.</p>\n</BODY></HTML>
X-COST:$10 to coach
END:VEVENT
BEGIN:VEVENT
UID:ai1ec-423@elthamtri.org.au
DTSTAMP:20190226T162828Z
CATEGORIES;LANGUAGE=en-US:Cycle\,Run
CONTACT:Zac Anderson\; 0408 290 246
DESCRIPTION:Bring your cycling and your running gear and join Coach Zac for
  fantastic brick session at the outdoor velodrome in Reservoir\nThere is a
  charge of $10 for this session payable to Coach Zac when you arrive.
DTSTART;TZID=Australia/Melbourne:20190205T183000
DTEND;TZID=Australia/Melbourne:20190205T193000
GEO:-37.716037;+145.01656
LOCATION:Preston Velodrome\, Reservoir
RRULE:FREQ=WEEKLY;BYDAY=TU;WKST=MO
SEQUENCE:0
SUMMARY:Brick session
URL:https://elthamtri.org.au/event/swim-3/
X-COST-TYPE:external
X-ALT-DESC;FMTTYPE=text/html:<!DOCTYPE HTML PUBLIC '-//W3C//DTD HTML 3.2//E
 N'>\\n<HTML>\\n<HEAD>\\n<TITLE></TITLE>\\n</HEAD>\\n<BODY><p>Bring your cy
 cling and your running gear and join Coach Zac for fantastic brick session
  at the outdoor velodrome in Reservoir</p>\n<p>There is a charge of $10 fo
 r this session payable to Coach Zac when you arrive.</p>\n</BODY></HTML>
X-COST:Members $8\, Non-members $10
END:VEVENT
END:VCALENDAR
