BEGIN:VCALENDAR
VERSION:2.0
PRODID:-//146.66.91.39//NONSGML kigkonsult.se iCalcreator 2.24.2//
CALSCALE:GREGORIAN
METHOD:PUBLISH
X-WR-CALNAME:elthamTRI
X-WR-CALDESC:a club for all triathletes in melbourne&#039\;s north east
X-FROM-URL:https://elthamtri.org.au
X-WR-TIMEZONE:Australia/Melbourne
BEGIN:VTIMEZONE
TZID:Australia/Melbourne
X-LIC-LOCATION:Australia/Melbourne
BEGIN:STANDARD
DTSTART:20190407T030000
TZOFFSETFROM:+1100
TZOFFSETTO:+1000
RDATE:20200405T030000
TZNAME:AEST
END:STANDARD
BEGIN:DAYLIGHT
DTSTART:20181007T020000
TZOFFSETFROM:+1000
TZOFFSETTO:+1100
RDATE:20191006T020000
TZNAME:AEDT
END:DAYLIGHT
END:VTIMEZONE
BEGIN:VEVENT
UID:ai1ec-1660@elthamtri.org.au
DTSTAMP:20190226T162425Z
CATEGORIES;LANGUAGE=en-US:Run
CONTACT:Luke Whitmore\; 0401961072
DESCRIPTION:Get down to this fun and challenging session with Coach Luke.\n
 All local runners welcome… You do not need to be a Triathlete or even a co
 mpetitive runner. This is a running group that values the company of other
 s\, who enjoy pushing themselves a little in a friendly environment withou
 t any cost attached.\nBeer and Pizza\nOn every last Thursday of the month 
 we will adjourn to Prosciutto Brothers for Beer and Pizza post session.\nC
 oach Luke\nCoached by the highly accomplished Luke Whitmore\; Triathlete\,
  Coach\, Full-Time Firefighter and Dad. Luke’s credentials are many and wh
 ile retired from the professional ranks of triathlon\, he now gets great s
 atisfaction in giving back to the sport through his coaching endeavours – 
 catering for all levels of trathlete.\nSome of Luke’s professional results
 :\n\nIronman Australia 2013 3rd\nPortarlington Long Course 2013 1st\nGeelo
 ng 70.3 2013 17th\nCape Patterson Olympic Distance 2012 1st\nShepparton 70
 .3 2012 12th\nVictorian Olympic Distance Championships 2012 4th\nForster L
 ong Course Triathlon 2012 7th
DTSTART;TZID=Australia/Melbourne:20190207T190000
DTEND;TZID=Australia/Melbourne:20190207T200000
GEO:-37.734405;+145.13975
LOCATION:Eltham Lacrosse Club
RRULE:FREQ=WEEKLY;BYDAY=TH;WKST=MO
SEQUENCE:0
SUMMARY:Mona Fartlek Run
URL:https://elthamtri.org.au/event/run-training-2-2/
X-COST-TYPE:free
X-ALT-DESC;FMTTYPE=text/html:<!DOCTYPE HTML PUBLIC '-//W3C//DTD HTML 3.2//E
 N'>\\n<HTML>\\n<HEAD>\\n<TITLE></TITLE>\\n</HEAD>\\n<BODY><p>Get down to t
 his fun and challenging session with Coach Luke.</p>\n<p>All local runners
  welcome… You do not need to be a Triathlete or even a competitive runner.
  This is a running group that values the company of others\, who enjoy pus
 hing themselves a little in a friendly environment without any cost attach
 ed.</p>\n<p><strong>Beer and Pizza</strong><br />\nOn every last Thursday 
 of the month we will adjourn to Prosciutto Brothers for Beer and Pizza pos
 t session.</p>\n<p><strong>Coach Luke</strong></p>\n<p>Coached by the high
 ly accomplished Luke Whitmore\; Triathlete\, Coach\, Full-Time Firefighter
  and Dad. Luke’s credentials are many and while retired from the professio
 nal ranks of triathlon\, he now gets great satisfaction in giving back to 
 the sport through his coaching endeavours – catering for all levels of tra
 thlete.</p>\n<p>Some of Luke’s professional results:</p>\n<ul>\n<li>Ironma
 n Australia 2013 <strong>3rd</strong></li>\n<li>Portarlington Long Course 
 2013 <strong>1st</strong></li>\n<li>Geelong 70.3 2013 <strong>17th</strong
 ></li>\n<li>Cape Patterson Olympic Distance 2012 <strong>1st</strong></li>
 \n<li>Shepparton 70.3 2012 <strong>12th</strong></li>\n<li>Victorian Olymp
 ic Distance Championships 2012 <strong>4th</strong></li>\n<li>Forster Long
  Course Triathlon 2012 <strong>7th</strong></li>\n</ul>\n</BODY></HTML>
END:VEVENT
END:VCALENDAR
