BEGIN:VCALENDAR
VERSION:2.0
PRODID:-//146.66.91.39//NONSGML kigkonsult.se iCalcreator 2.24.2//
CALSCALE:GREGORIAN
METHOD:PUBLISH
X-FROM-URL:https://elthamtri.org.au
X-WR-TIMEZONE:Australia/Melbourne
BEGIN:VTIMEZONE
TZID:Australia/Melbourne
X-LIC-LOCATION:Australia/Melbourne
BEGIN:STANDARD
DTSTART:20190407T030000
TZOFFSETFROM:+1100
TZOFFSETTO:+1000
RDATE:20200405T030000
TZNAME:AEST
END:STANDARD
BEGIN:DAYLIGHT
DTSTART:20181007T020000
TZOFFSETFROM:+1000
TZOFFSETTO:+1100
RDATE:20191006T020000
TZNAME:AEDT
END:DAYLIGHT
END:VTIMEZONE
BEGIN:VEVENT
UID:ai1ec-373@elthamtri.org.au/wordpress
DTSTAMP:20190226T162842Z
CATEGORIES;LANGUAGE=en-US:Cycle\,Swim
CONTACT:Zac
DESCRIPTION:<p>Striving towards your first triathlon? Come along to this gr
 eat beginner triathlete session where Coach Jenny will help lay the swim a
 nd cycle foundations for your first tri.</p>\n<p>Look for Coach Jenny and 
 the crew poolside.  There is a charge for this session so enquire at recep
 tion or call ELC beforehand for more info.</p>
DTSTART;TZID=Australia/Melbourne:20160228T071500
DTEND;TZID=Australia/Melbourne:20160228T084500
GEO:-37.722774;+145.050087
LOCATION:Eltham Leisure Centre
RRULE:FREQ=WEEKLY;BYDAY=SU;WKST=MO
SEQUENCE:0
SUMMARY:Beginner Tri
URL:https://elthamtri.org.au/event/cycle/
X-COST-TYPE:external
X-COST:$10 to coach
END:VEVENT
BEGIN:VEVENT
UID:ai1ec-357@elthamtri.org.au
DTSTAMP:20190226T162842Z
CATEGORIES;LANGUAGE=en-US:Swim
CONTACT:Mike Gowan
DESCRIPTION:<p>Here’s the deal…</p>\n<p>This is a squad swim where Coach Mi
 ke will provide a structured program to follow and will join swimmers in t
 he water – just to prove he still has it!</p>\n<p>For members at Eltham Le
 isure Centre\, there is no additional charge for this session.  For non-EL
 C members you will need to pay a casual session fee at ELC reception.</p>
DTSTART;TZID=Australia/Melbourne:20190204T060000
DTEND;TZID=Australia/Melbourne:20190204T070000
GEO:-37.723434;+145.14155
LOCATION:Eltham Leisure Centre @ 40 Brougham St\, Eltham VIC 3095\, Austral
 ia
RRULE:FREQ=WEEKLY;BYDAY=MO;WKST=MO
SEQUENCE:0
SUMMARY:Squad Swim
URL:https://elthamtri.org.au/event/swim/
X-COST-TYPE:external
END:VEVENT
BEGIN:VEVENT
UID:ai1ec-1727@elthamtri.org.au
DTSTAMP:20190226T162842Z
CATEGORIES;LANGUAGE=en-US:Swim
CONTACT:Mike Gowan
DESCRIPTION:<p>Join the crew for a coached swim where Coach Mike will be po
 olside providing a structured session for swimmers.</p>\n<p>For members at
  Eltham Leisure Centre\, there is no additional charge for this session.  
 For non-ELC members you will need to pay a casual session fee at ELC recep
 tion of $15.  Let reception know you are with Eltham Tri</p>
DTSTART;TZID=Australia/Melbourne:20190206T200000
DTEND;TZID=Australia/Melbourne:20190206T210000
GEO:-37.723434;+145.14155
LOCATION:Eltham Leisure Centre @ 40 Brougham St\, Eltham VIC 3095\, Austral
 ia
RRULE:FREQ=WEEKLY;BYDAY=MO;WKST=MO
SEQUENCE:0
SUMMARY:Coached Swim
URL:https://elthamtri.org.au/event/swim-2/
X-COST-TYPE:external
END:VEVENT
END:VCALENDAR
